BEGIN:VCALENDAR
VERSION:2.0
PRODID:-//Chronic Pain Ireland - ECPv6.15.12.2//NONSGML v1.0//EN
CALSCALE:GREGORIAN
METHOD:PUBLISH
X-WR-CALNAME:Chronic Pain Ireland
X-ORIGINAL-URL:https://chronicpain.ie
X-WR-CALDESC:Events for Chronic Pain Ireland
REFRESH-INTERVAL;VALUE=DURATION:PT1H
X-Robots-Tag:noindex
X-PUBLISHED-TTL:PT1H
BEGIN:VTIMEZONE
TZID:Europe/Dublin
BEGIN:DAYLIGHT
TZOFFSETFROM:+0000
TZOFFSETTO:+0100
TZNAME:IST
DTSTART:20250330T010000
END:DAYLIGHT
BEGIN:STANDARD
TZOFFSETFROM:+0100
TZOFFSETTO:+0000
TZNAME:GMT
DTSTART:20251026T010000
END:STANDARD
BEGIN:DAYLIGHT
TZOFFSETFROM:+0000
TZOFFSETTO:+0100
TZNAME:IST
DTSTART:20260329T010000
END:DAYLIGHT
BEGIN:STANDARD
TZOFFSETFROM:+0100
TZOFFSETTO:+0000
TZNAME:GMT
DTSTART:20261025T010000
END:STANDARD
BEGIN:DAYLIGHT
TZOFFSETFROM:+0000
TZOFFSETTO:+0100
TZNAME:IST
DTSTART:20270328T010000
END:DAYLIGHT
BEGIN:STANDARD
TZOFFSETFROM:+0100
TZOFFSETTO:+0000
TZNAME:GMT
DTSTART:20271031T010000
END:STANDARD
END:VTIMEZONE
BEGIN:VEVENT
DTSTART;TZID=Europe/Dublin:20260423T140000
DTEND;TZID=Europe/Dublin:20260423T160000
DTSTAMP:20260423T014653
CREATED:20251216T120159Z
LAST-MODIFIED:20260407T125502Z
UID:10000633-1776952800-1776960000@chronicpain.ie
SUMMARY:Pain Management: Chronic Pain Booster & Implementation Workshop
DESCRIPTION:Pain Management: Chronic Pain Booster & Implementation Workshop\nOur series of nationwide online courses and workshops look at ways to manage and cope with the challenge of chronic pain. As you will know\, pain management involves adapting to change by adopting a new set of habits that are often the opposite of what we are used to. It’s no surprise that it’s hard to do! \nPeople often fly high for a while after a course or workshop\, but it’s easy to lose momentum and slip back into those old unhelpful habits. With this in mind\, we are pleased to offer a bi-monthly session which focusses on helping you to regain the motivation to get back in to the habit of pain management. \nThese sessions are open to anyone who has completed any of the following: Living Well courses\, CPI “5 week” course\, all 12 CPI workshops or a hospital run pain management programme. The sessions are there for you to bring your questions and to explore whatever is needed to help you to re-invigorate your pain management habit. The aim is to give you a boost\, perhaps to re-assure\, to re-motivate or just to know it’s ok to keep doing what helps. \nThe sessions are not so much about new information\, rather they’re about finding ways to put what you know back into practice. The sessions will be friendly and interactive. The topic(s) and focus are set at the start of each meeting within the group. \nChronic Pain Ireland has for many years offered self-management training for all living with chronic pain and are partners with the Pain Association Scotland\, who (having pioneered the development and delivery of self-management training) have run community programmes for over 20 years. Both CPI and PAS share mutual aims of helping to improve the quality of life for all living with chronic pain. The focus of these interactive workshops is therefore on introducing people to\, and quickly building\, self-management skills\, thereby creating practical\, positive change leading to an improved quality of life and well-being. Our trained facilitator has delivered over 10\,000 workshops to date. \nThese nationwide online workshops are offered to members of Chronic Pain Ireland. \nTo avail of all our chronic pain support services including: self-management workshops\, telephone support line\, chronic pain courses and programmes\, online meetings\, webinars and networking opportunities  Join here \n  \n 
URL:https://chronicpain.ie/event/pain-management-chronic-pain-booster-implementation-workshop-3/2026-04-23/
LOCATION:online\, Ireland
CATEGORIES:Events
ATTACH;FMTTYPE=image/jpeg:https://chronicpain.ie/wp-content/uploads/2025/12/BOOSTER-WORKSHOP-WEB-IMAGE-2.jpg
GEO:53.7797554;-7.3055309
END:VEVENT
END:VCALENDAR