BEGIN:VCALENDAR
VERSION:2.0
PRODID:-//Chronic Pain Ireland - ECPv6.15.12.2//NONSGML v1.0//EN
CALSCALE:GREGORIAN
METHOD:PUBLISH
X-ORIGINAL-URL:https://chronicpain.ie
X-WR-CALDESC:Events for Chronic Pain Ireland
REFRESH-INTERVAL;VALUE=DURATION:PT1H
X-Robots-Tag:noindex
X-PUBLISHED-TTL:PT1H
BEGIN:VTIMEZONE
TZID:Europe/Dublin
BEGIN:DAYLIGHT
TZOFFSETFROM:+0000
TZOFFSETTO:+0100
TZNAME:IST
DTSTART:20220327T010000
END:DAYLIGHT
BEGIN:STANDARD
TZOFFSETFROM:+0100
TZOFFSETTO:+0000
TZNAME:GMT
DTSTART:20221030T010000
END:STANDARD
BEGIN:DAYLIGHT
TZOFFSETFROM:+0000
TZOFFSETTO:+0100
TZNAME:IST
DTSTART:20230326T010000
END:DAYLIGHT
BEGIN:STANDARD
TZOFFSETFROM:+0100
TZOFFSETTO:+0000
TZNAME:GMT
DTSTART:20231029T010000
END:STANDARD
BEGIN:DAYLIGHT
TZOFFSETFROM:+0000
TZOFFSETTO:+0100
TZNAME:IST
DTSTART:20240331T010000
END:DAYLIGHT
BEGIN:STANDARD
TZOFFSETFROM:+0100
TZOFFSETTO:+0000
TZNAME:GMT
DTSTART:20241027T010000
END:STANDARD
END:VTIMEZONE
BEGIN:VEVENT
DTSTART;TZID=Europe/Dublin:20230801T140000
DTEND;TZID=Europe/Dublin:20230801T160000
DTSTAMP:20260422T074203
CREATED:20230515T104752Z
LAST-MODIFIED:20230515T104752Z
UID:10000089-1690898400-1690905600@chronicpain.ie
SUMMARY:Chronic Pain 5-week Self-Management Course
DESCRIPTION:Chronic Pain Ireland is holding our 5-week Self-Management Course for people living with chronic pain. This 5 session course is delivered online over a 5 week period and is a 2 hour session. The course focusses and looks at key ideas in the self-management of chronic pain and encourages participants to explore ways to both manage their condition and cope better.  The course offers a special kind of flexible interactive experience in which questions\, feedback\, discussion and mutual support are an important part of the process. \nThere are key topics that will always be covered and there is a ‘direction of travel’ (per topics listed) but the exact order in which topics are discussed and the focus given to each area\, depends on the needs and interests of the group at the time.  The course is delivered in a non-linear way such that topics overlap and ‘inform’ each other.  A good example would be how Pacing for instance requires that we also look at the effects of stress\, beliefs\nand issues around acceptance. \nThe topics covered during the course will be: \n\nIntroduction – in which participants will be asked what they want to achieve and a big picture of pain management is shared including an explanation of the bio-psycho-social model\nUnderstanding chronic pain\nBoom-Bust\, Pacing\, Baselines\, goal setting\nStress awareness and management ideas\, breaking the pain stress cycle\nAnxiety\nSleep\nSocial aspects\nAcceptance & emotions\nFlare ups\n\nLive notes from each session will be e-mailed along with more formal pre-prepared materials including audio recordings for relaxation practice. This means that people wanting to explore a focus specifically on a topic can do so in-between sessions and the sessions can help explain things further and deal with questions and challenges. \nFacilitator for this programme is the Lead Trainer of Pain Association of Scotland\, Phil Sizer who has delivered thousands of workshops throughout Ireland and the UK and is the author of Chronic Pain\, the drug free way which is available from your local library or via amazon.co.uk.  Chronic Pain Ireland has for many years offered self-management training for all living with chronic pain and are partnering with the Pain Association Scotland\, who (having pioneered the development and delivery of self-management training) have run community programmes for over 20 years. Both CPI and PAS share mutual aims of helping to improve the quality of life for all living with chronic pain. \nPlease note the above course is only offered to members of Chronic Pain Ireland at no additional cost. For information about taking out membership to Chronic Pain Ireland see here
URL:https://chronicpain.ie/event/chronic-pain-5-week-self-management-course/2023-08-01/
LOCATION:online\, Ireland
ATTACH;FMTTYPE=image/png:https://chronicpain.ie/wp-content/uploads/2023/04/CPI-PAS-5-week-Course-Instagram-Post-Square.png
GEO:53.7797554;-7.3055309
END:VEVENT
BEGIN:VEVENT
DTSTART;TZID=Europe/Dublin:20230725T190000
DTEND;TZID=Europe/Dublin:20230725T200000
DTSTAMP:20260422T074203
CREATED:20230706T114548Z
LAST-MODIFIED:20230706T114548Z
UID:10000109-1690311600-1690315200@chronicpain.ie
SUMMARY:CPI Turn2Me Support Group for chronic pain
DESCRIPTION:Chronic Pain Ireland has partnered with Turn2Me an Irish online mental health charity that provides free\, anonymous and confidential online professional health services to anyone that needs it.  They provide a range of online services which anyone can access via their website www.Turn2Me.ie \nChronic Pain Group Counselling \nChronic Pain is invisible\, you cannot show it to your doctor\, friends\, or family.  There isn’t always a scar or any visual cues to the pain you are suffering.  This support group is a place where you can seek support from others who can empathise with what you are going through\, and your experience will resonate with other Chronic Pain Ireland members.  Empower yourself to take control and arm yourself with ways to improve your quality of everyday life\, strengthen your resilience\, prioritise your mental health and self-care.  The support group is facilitated by an experienced Psychotherapist who lives with Chronic Pain.   \nTurn2Me in partnership with Chronic Pain Ireland will facilitate a specific ‘chronic pain group counselling support group’ on the last Tuesday evening of every month.    Please note that while the above group is open only to Chronic Pain Ireland members at this time however all other mental health services are available to the general public and you can sign up directly via www.Turn2Me.ie \nIf you would like to learn more about CPI membership see here \nAbout Turn2Me: \nTurn2Me is supported by the HSE’s National Office for Suicide Prevention to deliver counselling online. Turn2me is a national mental health charity that was founded in 2009 by Oisin and Diarmuid Scollard\, who tragically lost their brother\, Cormac\, to suicide in 2003. Turn2me offers adult counselling and support group services to adults and young people aged 12 plus. Turn2Me has helped over 120\,000 people since it was set up in 2009. Turn2Me offers up to six free counselling sessions to adults living in Ireland. To sign up\, go to www.Turn2Me.ie
URL:https://chronicpain.ie/event/cpi-turn2me-support-group-for-chronic-pain/2023-07-25/
LOCATION:online\, Ireland
ATTACH;FMTTYPE=image/png:https://chronicpain.ie/wp-content/uploads/2023/07/4-2.png
GEO:53.7797554;-7.3055309
END:VEVENT
BEGIN:VEVENT
DTSTART;TZID=Europe/Dublin:20230725T140000
DTEND;TZID=Europe/Dublin:20230725T160000
DTSTAMP:20260422T074203
CREATED:20230515T104752Z
LAST-MODIFIED:20230515T104752Z
UID:10000088-1690293600-1690300800@chronicpain.ie
SUMMARY:Chronic Pain 5-week Self-Management Course
DESCRIPTION:Chronic Pain Ireland is holding our 5-week Self-Management Course for people living with chronic pain. This 5 session course is delivered online over a 5 week period and is a 2 hour session. The course focusses and looks at key ideas in the self-management of chronic pain and encourages participants to explore ways to both manage their condition and cope better.  The course offers a special kind of flexible interactive experience in which questions\, feedback\, discussion and mutual support are an important part of the process. \nThere are key topics that will always be covered and there is a ‘direction of travel’ (per topics listed) but the exact order in which topics are discussed and the focus given to each area\, depends on the needs and interests of the group at the time.  The course is delivered in a non-linear way such that topics overlap and ‘inform’ each other.  A good example would be how Pacing for instance requires that we also look at the effects of stress\, beliefs\nand issues around acceptance. \nThe topics covered during the course will be: \n\nIntroduction – in which participants will be asked what they want to achieve and a big picture of pain management is shared including an explanation of the bio-psycho-social model\nUnderstanding chronic pain\nBoom-Bust\, Pacing\, Baselines\, goal setting\nStress awareness and management ideas\, breaking the pain stress cycle\nAnxiety\nSleep\nSocial aspects\nAcceptance & emotions\nFlare ups\n\nLive notes from each session will be e-mailed along with more formal pre-prepared materials including audio recordings for relaxation practice. This means that people wanting to explore a focus specifically on a topic can do so in-between sessions and the sessions can help explain things further and deal with questions and challenges. \nFacilitator for this programme is the Lead Trainer of Pain Association of Scotland\, Phil Sizer who has delivered thousands of workshops throughout Ireland and the UK and is the author of Chronic Pain\, the drug free way which is available from your local library or via amazon.co.uk.  Chronic Pain Ireland has for many years offered self-management training for all living with chronic pain and are partnering with the Pain Association Scotland\, who (having pioneered the development and delivery of self-management training) have run community programmes for over 20 years. Both CPI and PAS share mutual aims of helping to improve the quality of life for all living with chronic pain. \nPlease note the above course is only offered to members of Chronic Pain Ireland at no additional cost. For information about taking out membership to Chronic Pain Ireland see here
URL:https://chronicpain.ie/event/chronic-pain-5-week-self-management-course/2023-07-25/
LOCATION:online\, Ireland
ATTACH;FMTTYPE=image/png:https://chronicpain.ie/wp-content/uploads/2023/04/CPI-PAS-5-week-Course-Instagram-Post-Square.png
GEO:53.7797554;-7.3055309
END:VEVENT
BEGIN:VEVENT
DTSTART;TZID=Europe/Dublin:20230718T140000
DTEND;TZID=Europe/Dublin:20230718T160000
DTSTAMP:20260422T074203
CREATED:20230515T104752Z
LAST-MODIFIED:20230515T104752Z
UID:10000087-1689688800-1689696000@chronicpain.ie
SUMMARY:Chronic Pain 5-week Self-Management Course
DESCRIPTION:Chronic Pain Ireland is holding our 5-week Self-Management Course for people living with chronic pain. This 5 session course is delivered online over a 5 week period and is a 2 hour session. The course focusses and looks at key ideas in the self-management of chronic pain and encourages participants to explore ways to both manage their condition and cope better.  The course offers a special kind of flexible interactive experience in which questions\, feedback\, discussion and mutual support are an important part of the process. \nThere are key topics that will always be covered and there is a ‘direction of travel’ (per topics listed) but the exact order in which topics are discussed and the focus given to each area\, depends on the needs and interests of the group at the time.  The course is delivered in a non-linear way such that topics overlap and ‘inform’ each other.  A good example would be how Pacing for instance requires that we also look at the effects of stress\, beliefs\nand issues around acceptance. \nThe topics covered during the course will be: \n\nIntroduction – in which participants will be asked what they want to achieve and a big picture of pain management is shared including an explanation of the bio-psycho-social model\nUnderstanding chronic pain\nBoom-Bust\, Pacing\, Baselines\, goal setting\nStress awareness and management ideas\, breaking the pain stress cycle\nAnxiety\nSleep\nSocial aspects\nAcceptance & emotions\nFlare ups\n\nLive notes from each session will be e-mailed along with more formal pre-prepared materials including audio recordings for relaxation practice. This means that people wanting to explore a focus specifically on a topic can do so in-between sessions and the sessions can help explain things further and deal with questions and challenges. \nFacilitator for this programme is the Lead Trainer of Pain Association of Scotland\, Phil Sizer who has delivered thousands of workshops throughout Ireland and the UK and is the author of Chronic Pain\, the drug free way which is available from your local library or via amazon.co.uk.  Chronic Pain Ireland has for many years offered self-management training for all living with chronic pain and are partnering with the Pain Association Scotland\, who (having pioneered the development and delivery of self-management training) have run community programmes for over 20 years. Both CPI and PAS share mutual aims of helping to improve the quality of life for all living with chronic pain. \nPlease note the above course is only offered to members of Chronic Pain Ireland at no additional cost. For information about taking out membership to Chronic Pain Ireland see here
URL:https://chronicpain.ie/event/chronic-pain-5-week-self-management-course/2023-07-18/
LOCATION:online\, Ireland
ATTACH;FMTTYPE=image/png:https://chronicpain.ie/wp-content/uploads/2023/04/CPI-PAS-5-week-Course-Instagram-Post-Square.png
GEO:53.7797554;-7.3055309
END:VEVENT
BEGIN:VEVENT
DTSTART;TZID=Europe/Dublin:20230711T140000
DTEND;TZID=Europe/Dublin:20230711T160000
DTSTAMP:20260422T074203
CREATED:20230515T104752Z
LAST-MODIFIED:20230515T104752Z
UID:10000086-1689084000-1689091200@chronicpain.ie
SUMMARY:Chronic Pain 5-week Self-Management Course
DESCRIPTION:Chronic Pain Ireland is holding our 5-week Self-Management Course for people living with chronic pain. This 5 session course is delivered online over a 5 week period and is a 2 hour session. The course focusses and looks at key ideas in the self-management of chronic pain and encourages participants to explore ways to both manage their condition and cope better.  The course offers a special kind of flexible interactive experience in which questions\, feedback\, discussion and mutual support are an important part of the process. \nThere are key topics that will always be covered and there is a ‘direction of travel’ (per topics listed) but the exact order in which topics are discussed and the focus given to each area\, depends on the needs and interests of the group at the time.  The course is delivered in a non-linear way such that topics overlap and ‘inform’ each other.  A good example would be how Pacing for instance requires that we also look at the effects of stress\, beliefs\nand issues around acceptance. \nThe topics covered during the course will be: \n\nIntroduction – in which participants will be asked what they want to achieve and a big picture of pain management is shared including an explanation of the bio-psycho-social model\nUnderstanding chronic pain\nBoom-Bust\, Pacing\, Baselines\, goal setting\nStress awareness and management ideas\, breaking the pain stress cycle\nAnxiety\nSleep\nSocial aspects\nAcceptance & emotions\nFlare ups\n\nLive notes from each session will be e-mailed along with more formal pre-prepared materials including audio recordings for relaxation practice. This means that people wanting to explore a focus specifically on a topic can do so in-between sessions and the sessions can help explain things further and deal with questions and challenges. \nFacilitator for this programme is the Lead Trainer of Pain Association of Scotland\, Phil Sizer who has delivered thousands of workshops throughout Ireland and the UK and is the author of Chronic Pain\, the drug free way which is available from your local library or via amazon.co.uk.  Chronic Pain Ireland has for many years offered self-management training for all living with chronic pain and are partnering with the Pain Association Scotland\, who (having pioneered the development and delivery of self-management training) have run community programmes for over 20 years. Both CPI and PAS share mutual aims of helping to improve the quality of life for all living with chronic pain. \nPlease note the above course is only offered to members of Chronic Pain Ireland at no additional cost. For information about taking out membership to Chronic Pain Ireland see here
URL:https://chronicpain.ie/event/chronic-pain-5-week-self-management-course/2023-07-11/
LOCATION:online\, Ireland
ATTACH;FMTTYPE=image/png:https://chronicpain.ie/wp-content/uploads/2023/04/CPI-PAS-5-week-Course-Instagram-Post-Square.png
GEO:53.7797554;-7.3055309
END:VEVENT
BEGIN:VEVENT
DTSTART;TZID=Europe/Dublin:20230707T140000
DTEND;TZID=Europe/Dublin:20230707T160000
DTSTAMP:20260422T074203
CREATED:20230601T084448Z
LAST-MODIFIED:20230601T112544Z
UID:10000098-1688738400-1688745600@chronicpain.ie
SUMMARY:Workshop - Practical Relaxation Skills
DESCRIPTION:Practical Relaxation Skills is the topic for our July self-management workshop.  Our approach is based on a holistic\, bio-psycho-social model of health including CBT (cognitive behavioural therapy)\, ACT (Acceptance and Commitment Therapy)\, positive psychology\, relaxation\, hypnotherapy\, motivational interviewing and coaching. \nIn this practical workshop we explore and try different relaxation techniques so that participants can experience for themselves in a small group setting.  The different techniques will include: \n\nsimple breathing\nprogressive relaxation\ngetting to sleep techniques\ngrounding and visualisation.\n\nChronic Pain Ireland has for many years offered self-management training for all living with chronic pain and are partners with the Pain Association Scotland\, who (having pioneered the development and delivery of self-management training) have run community programmes for over 20 years. Both CPI and PAS share mutual aims of helping to improve the quality of life for all living with chronic pain. The focus of these interactive workshops is therefore on introducing people to\, and quickly building\, self-management skills\, thereby creating practical\, positive change leading to an improved quality of life and well-being. Our trained facilitator has delivered over 10\,000 workshops to date. \nThese workshops are offered to members of Chronic Pain Ireland only.  If you would like to become a member and avail of all our chronic pain support services including: self-management workshops\, telephone support line\, chronic pain courses and programmes\, online meetings\, webinars and networking opportunities   â€“ Join here
URL:https://chronicpain.ie/event/workshop-practical-relaxation-skills/
LOCATION:online\, Ireland
ATTACH;FMTTYPE=image/png:https://chronicpain.ie/wp-content/uploads/2023/06/CPI-PAS-UCP-Workshop-1.png
GEO:53.7797554;-7.3055309
END:VEVENT
BEGIN:VEVENT
DTSTART;TZID=Europe/Dublin:20230704T140000
DTEND;TZID=Europe/Dublin:20230704T160000
DTSTAMP:20260422T074203
CREATED:20230515T104752Z
LAST-MODIFIED:20230515T104752Z
UID:10000085-1688479200-1688486400@chronicpain.ie
SUMMARY:Chronic Pain 5-week Self-Management Course
DESCRIPTION:Chronic Pain Ireland is holding our 5-week Self-Management Course for people living with chronic pain. This 5 session course is delivered online over a 5 week period and is a 2 hour session. The course focusses and looks at key ideas in the self-management of chronic pain and encourages participants to explore ways to both manage their condition and cope better.  The course offers a special kind of flexible interactive experience in which questions\, feedback\, discussion and mutual support are an important part of the process. \nThere are key topics that will always be covered and there is a ‘direction of travel’ (per topics listed) but the exact order in which topics are discussed and the focus given to each area\, depends on the needs and interests of the group at the time.  The course is delivered in a non-linear way such that topics overlap and ‘inform’ each other.  A good example would be how Pacing for instance requires that we also look at the effects of stress\, beliefs\nand issues around acceptance. \nThe topics covered during the course will be: \n\nIntroduction – in which participants will be asked what they want to achieve and a big picture of pain management is shared including an explanation of the bio-psycho-social model\nUnderstanding chronic pain\nBoom-Bust\, Pacing\, Baselines\, goal setting\nStress awareness and management ideas\, breaking the pain stress cycle\nAnxiety\nSleep\nSocial aspects\nAcceptance & emotions\nFlare ups\n\nLive notes from each session will be e-mailed along with more formal pre-prepared materials including audio recordings for relaxation practice. This means that people wanting to explore a focus specifically on a topic can do so in-between sessions and the sessions can help explain things further and deal with questions and challenges. \nFacilitator for this programme is the Lead Trainer of Pain Association of Scotland\, Phil Sizer who has delivered thousands of workshops throughout Ireland and the UK and is the author of Chronic Pain\, the drug free way which is available from your local library or via amazon.co.uk.  Chronic Pain Ireland has for many years offered self-management training for all living with chronic pain and are partnering with the Pain Association Scotland\, who (having pioneered the development and delivery of self-management training) have run community programmes for over 20 years. Both CPI and PAS share mutual aims of helping to improve the quality of life for all living with chronic pain. \nPlease note the above course is only offered to members of Chronic Pain Ireland at no additional cost. For information about taking out membership to Chronic Pain Ireland see here
URL:https://chronicpain.ie/event/chronic-pain-5-week-self-management-course/2023-07-04/
LOCATION:online\, Ireland
ATTACH;FMTTYPE=image/png:https://chronicpain.ie/wp-content/uploads/2023/04/CPI-PAS-5-week-Course-Instagram-Post-Square.png
GEO:53.7797554;-7.3055309
END:VEVENT
BEGIN:VEVENT
DTSTART;TZID=Europe/Dublin:20230615T100000
DTEND;TZID=Europe/Dublin:20230615T120000
DTSTAMP:20260422T074203
CREATED:20230601T064631Z
LAST-MODIFIED:20230601T064912Z
UID:10000096-1686823200-1686830400@chronicpain.ie
SUMMARY:Online World Café - CPI Members
DESCRIPTION:Members of Chronic Pain Ireland have the opportunity to help us to drive research that will help improve or enhance sleep mechanisms for chronic pain.  We are partnered with the University of Limerick’s School of Allied Health (winners of the 2022 BMP Pain Research Grant) to look at the problem of poor sleep among people with chronic pain. The project will look at ways to enhance sleep among people with chronic pain\, especially considering options other than medication. \nWhat is involved?\nCPI members with persistent pain will attend our online world Café event which is being held on June 15th from 10:00 – 12:00 noon.  A world Café creates an informal Café setting for participants to explore an issue by discussing it in small table groups. \nPatient participation is vital to the success of this research initiative. \n\nParticipants will receive a €30 voucher to reflect their time commitment to online world cafes.\n\nThe above event is only open to members of Chronic Pain Ireland.  If you would like to learn more about joining see here
URL:https://chronicpain.ie/event/online-world-cafe-cpi-members/
LOCATION:online\, Ireland
ATTACH;FMTTYPE=image/png:https://chronicpain.ie/wp-content/uploads/2023/06/CPI-Website-Online-WC-15-June-23-CPI-Socials-Poster.png
GEO:53.7797554;-7.3055309
END:VEVENT
BEGIN:VEVENT
DTSTART;TZID=Europe/Dublin:20230609T140000
DTEND;TZID=Europe/Dublin:20230609T160000
DTSTAMP:20260422T074203
CREATED:20230522T130016Z
LAST-MODIFIED:20230717T162116Z
UID:10000095-1686319200-1686326400@chronicpain.ie
SUMMARY:Workshop Understanding Chronic Pain
DESCRIPTION:Understanding Chronic Pain is the topic for our June self-management workshop.  Our approach is based on a holistic\, bio-psycho-social model of health including CBT (cognitive behavioural therapy)\, ACT (Acceptance and Commitment Therapy)\, positive psychology\, relaxation\, hypnotherapy\, motivational interviewing and coaching. \nIn this workshop session we examine and explore the following topics: \n\nAcute vs chronic pain\nSensory & Emotional\nNeuro matrix & gate theory models\nNociplastic pain\nThreat-o-meter\nLinks to pain management strategies\n\nChronic Pain Ireland has for many years offered self-management training for all living with chronic pain and are partnering with the Pain Association Scotland\, who (having pioneered the development and delivery of self-management training) have run community programmes for over 20 years. Both CPI and PAS share mutual aims of helping to improve the quality of life for all living with chronic pain. The focus of these interactive workshops is therefore on introducing people to\, and quickly building\, self-management skills\, thereby creating practical\, positive change leading to an improved quality of life and well-being. Our trained facilitator has delivered over 10\,000 workshops to date. \nThese workshops are offered to members of Chronic Pain Ireland only.  If you would like to become a member and avail of all our chronic pain support services including: self-management workshops\, telephone support line\, chronic pain courses and programmes\, online meetings\, webinars and networking opportunities   â€“ Join here
URL:https://chronicpain.ie/event/understanding-chronic-pain/
LOCATION:online\, Ireland
ATTACH;FMTTYPE=image/png:https://chronicpain.ie/wp-content/uploads/2023/05/CPI-PAS-UCP-Workshop.png
GEO:53.7797554;-7.3055309
END:VEVENT
END:VCALENDAR